BEGIN:VCALENDAR
VERSION:2.0
PRODID:-//Geniu - ECPv6.15.19//NONSGML v1.0//EN
CALSCALE:GREGORIAN
METHOD:PUBLISH
X-WR-CALNAME:Geniu
X-ORIGINAL-URL:https://www.geniu.com/de/
X-WR-CALDESC:Veranstaltungen für Geniu
REFRESH-INTERVAL;VALUE=DURATION:PT1H
X-Robots-Tag:noindex
X-PUBLISHED-TTL:PT1H
BEGIN:VTIMEZONE
TZID:Europe/Berlin
BEGIN:DAYLIGHT
TZOFFSETFROM:+0100
TZOFFSETTO:+0200
TZNAME:CEST
DTSTART:20250330T010000
END:DAYLIGHT
BEGIN:STANDARD
TZOFFSETFROM:+0200
TZOFFSETTO:+0100
TZNAME:CET
DTSTART:20251026T010000
END:STANDARD
BEGIN:DAYLIGHT
TZOFFSETFROM:+0100
TZOFFSETTO:+0200
TZNAME:CEST
DTSTART:20260329T010000
END:DAYLIGHT
BEGIN:STANDARD
TZOFFSETFROM:+0200
TZOFFSETTO:+0100
TZNAME:CET
DTSTART:20261025T010000
END:STANDARD
BEGIN:DAYLIGHT
TZOFFSETFROM:+0100
TZOFFSETTO:+0200
TZNAME:CEST
DTSTART:20270328T010000
END:DAYLIGHT
BEGIN:STANDARD
TZOFFSETFROM:+0200
TZOFFSETTO:+0100
TZNAME:CET
DTSTART:20271031T010000
END:STANDARD
END:VTIMEZONE
BEGIN:VEVENT
DTSTART;TZID=Europe/Berlin:20260924T140000
DTEND;TZID=Europe/Berlin:20260924T150000
DTSTAMP:20260420T022811
CREATED:20251128T231253Z
LAST-MODIFIED:20251128T231253Z
UID:97374-1790258400-1790262000@www.geniu.com
SUMMARY:Laborplanung – Webinar
DESCRIPTION:Der Neu- oder Umbau eines Labors ist für viele ein einmaliges Projekt im gesamten Berufsleben. Kein Routineprojekt\, sondern eine seltene Gelegenheit – und eine große Verantwortung zugleich. Umso wichtiger ist ein effektives Vorgehen: Durch eine ablaufoptimierte Laborplanung lassen sich Effizienzsteigerungen von bis zu 25 % erreichen – Potenziale\, die nach der Inbetriebnahme meist nicht mehr wirtschaftlich realisierbar sind. Zugleich steigert eine gut abgestimmte Planung die Zufriedenheit und Akzeptanz der Mitarbeitenden – ein Erfolgsfaktor\, der oft unterschätzt wird. \nZiel des Webinars\nDas Webinar zeigt\, wie Sie mit Lean-Management-Techniken ein Laborlayout entwickeln\, das optimal auf Ihre Abläufe abgestimmt ist – vom Makro-Design (mehrere Laborräume) bis zum Mikro-Design einzelner Arbeitsplätze. Sie erfahren\, welche typischen Herausforderungen bei der Laborplanung auftreten – und wie Sie diese gezielt meistern können. Zudem erhalten Sie einen Überblick\, wie Sie Prozesse und Arbeitswege analysieren und in ein effizientes Raumkonzept überführen. Abschließend gewinnen Sie einen Einblick in Geniu’s Beratungsleistungen\, darunter den „Layout-Check“ zur Überprüfung von Laborgrundrissen und die Entwicklung maßgeschneiderter Laborraumkonzepte. \nZielgruppe\nDas Webinar richtet sich an Führungskräfte und Mitarbeitende in Laboren\, die für die Planung von Um- oder Neubauten verantwortlich sind. Es zeigt ein praxisbewährtes Vorgehen\, wie Sie schnell und unabhängig von Labormöbelherstellern ein optimiertes Layout entwickeln können. \nReferent\nDr. Wolf-Christian Gerstner ist Gründer und Geschäftsführer von Geniu\, spezialisiert auf Schulungen und Beratung für Labore. Er hat über 50 Laborlayout-Projekte in Europa\, den USA und Asien erfolgreich umgesetzt – in Bereichen wie Pharma\, Biotechnologie\, Chemie\, Medizin\, Lebensmittelanalytik und Umwelt. Dr. Gerstner gilt als einer der führenden Experten für ablaufoptimierte Laborlayouts in Europa. Er entwickelte die proprietäre Geniu-Methode zur Analyse von Prüf- und Aktivitätenportfolios als Grundlage effizienter Layouts.\nSeine Erfahrung umfasst zudem Automatisierung\, Robotik\, Mitarbeiterzufriedenheit und organisatorische Strukturen\, die eng mit Laborlayouts verknüpft sind.
URL:https://www.geniu.com/de/veranstaltung/laborplanung-webinar-2026-09/
CATEGORIES:Webinar
ATTACH;FMTTYPE=image/jpeg:https://www.geniu.com/wp-content/uploads/2025/10/2024s-Blueprint-for-Better-Construction-1024x683-1.jpg
ORGANIZER;CN="Geniu":MAILTO:christian.gerstner@geniu.com
END:VEVENT
END:VCALENDAR